BEGIN:VCALENDAR
VERSION:2.0
PRODID:-//Deltaplane.co - ECPv6.15.20//NONSGML v1.0//EN
CALSCALE:GREGORIAN
METHOD:PUBLISH
X-WR-CALNAME:Deltaplane.co
X-ORIGINAL-URL:https://deltaplane.co
X-WR-CALDESC:Évènements pour Deltaplane.co
REFRESH-INTERVAL;VALUE=DURATION:PT1H
X-Robots-Tag:noindex
X-PUBLISHED-TTL:PT1H
BEGIN:VTIMEZONE
TZID:Europe/Paris
BEGIN:DAYLIGHT
TZOFFSETFROM:+0100
TZOFFSETTO:+0200
TZNAME:CEST
DTSTART:20240331T010000
END:DAYLIGHT
BEGIN:STANDARD
TZOFFSETFROM:+0200
TZOFFSETTO:+0100
TZNAME:CET
DTSTART:20241027T010000
END:STANDARD
BEGIN:DAYLIGHT
TZOFFSETFROM:+0100
TZOFFSETTO:+0200
TZNAME:CEST
DTSTART:20250330T010000
END:DAYLIGHT
BEGIN:STANDARD
TZOFFSETFROM:+0200
TZOFFSETTO:+0100
TZNAME:CET
DTSTART:20251026T010000
END:STANDARD
BEGIN:DAYLIGHT
TZOFFSETFROM:+0100
TZOFFSETTO:+0200
TZNAME:CEST
DTSTART:20260329T010000
END:DAYLIGHT
BEGIN:STANDARD
TZOFFSETFROM:+0200
TZOFFSETTO:+0100
TZNAME:CET
DTSTART:20261025T010000
END:STANDARD
END:VTIMEZONE
BEGIN:VEVENT
DTSTART;VALUE=DATE:20250906
DTEND;VALUE=DATE:20250907
DTSTAMP:20260419T184938
CREATED:20250819T163533Z
LAST-MODIFIED:20250819T163533Z
UID:13955-1757116800-1757203199@deltaplane.co
SUMMARY:50 ans du DCHJ !
DESCRIPTION:Cette année c’est la fête ! \n🎉 Le Delta Club du Haut Jura fête ses 50 ans ! 🎉 Rendez-vous le 6 septembre 2025 au local Delta pour une journée festive : démonstrations\, animations\, repas\, foodtruck et concert. Membres\, anciens membres\, amis et familles : vous êtes tous les bienvenus ! \n\n\n\n🎉 50 ans du Delta Club du Haut Jura (DCHJ) 🎉1975 – 2025 \nLe Delta Club du Haut Jura souffle ses 50 bougies\, et pour l’occasion\, nous organisons une journée placée sous le signe du vol libre\, de la convivialité et de la fête ! \n📍 Lieu : Local Delta📅 Date : Samedi 6 septembre 2025⏰ À partir de 11h00 \n👥 Sont invités :Tous les membres actuels\, anciens membres\, deltistes\, bénévoles\, familles\, amis… Bref\, toute la grande famille du DCHJ ! \nAu programme :🍽️ Repas du midi sur inscription – 25 €/personne (gratuit pour les -12 ans)🦅 Activités l’après-midi : démonstration de vol à la pente-école\, simulateur de vol et autres activités ludiques…🧢 Vente de t-shirts et casquettes aux couleurs du club🚚 Foodtruck pour se régaler le soir🎶 Concert pour clôturer la journée en musique et en bonne humeur ! \n👉 Venez célébrer avec nous 50 ans d’aventure humaine et aérienne !Ambiance garantie\, souvenirs partagés et convivialité au rendez-vous !
URL:https://deltaplane.co/agenda/50-ans-du-dchj/
LOCATION:Saint Claude\, Saint Claude\, 39200\, France
CATEGORIES:Fête
ATTACH;FMTTYPE=image/jpeg:https://deltaplane.co/wp-content/uploads/2025/08/DCHJ-HOMMES-NUS.jpg
END:VEVENT
END:VCALENDAR