BEGIN:VCALENDAR
VERSION:2.0
PRODID:-//Deltaplane.co - ECPv6.15.20//NONSGML v1.0//EN
CALSCALE:GREGORIAN
METHOD:PUBLISH
X-WR-CALNAME:Deltaplane.co
X-ORIGINAL-URL:https://deltaplane.co
X-WR-CALDESC:Évènements pour Deltaplane.co
REFRESH-INTERVAL;VALUE=DURATION:PT1H
X-Robots-Tag:noindex
X-PUBLISHED-TTL:PT1H
BEGIN:VTIMEZONE
TZID:Europe/Paris
BEGIN:DAYLIGHT
TZOFFSETFROM:+0100
TZOFFSETTO:+0200
TZNAME:CEST
DTSTART:20240331T010000
END:DAYLIGHT
BEGIN:STANDARD
TZOFFSETFROM:+0200
TZOFFSETTO:+0100
TZNAME:CET
DTSTART:20241027T010000
END:STANDARD
BEGIN:DAYLIGHT
TZOFFSETFROM:+0100
TZOFFSETTO:+0200
TZNAME:CEST
DTSTART:20250330T010000
END:DAYLIGHT
BEGIN:STANDARD
TZOFFSETFROM:+0200
TZOFFSETTO:+0100
TZNAME:CET
DTSTART:20251026T010000
END:STANDARD
BEGIN:DAYLIGHT
TZOFFSETFROM:+0100
TZOFFSETTO:+0200
TZNAME:CEST
DTSTART:20260329T010000
END:DAYLIGHT
BEGIN:STANDARD
TZOFFSETFROM:+0200
TZOFFSETTO:+0100
TZNAME:CET
DTSTART:20261025T010000
END:STANDARD
END:VTIMEZONE
BEGIN:VEVENT
DTSTART;VALUE=DATE:20250501
DTEND;VALUE=DATE:20250505
DTSTAMP:20260423T084601
CREATED:20250203T191422Z
LAST-MODIFIED:20250206T232017Z
UID:13580-1746057600-1746403199@deltaplane.co
SUMMARY:Rassemblement deltistes en Bretagne ou Cotentin
DESCRIPTION:
URL:https://deltaplane.co/agenda/rassemblement-deltistes-en-bretagne-ou-en-cotentin/
LOCATION:Saint-Pabu
CATEGORIES:Rencontre
ATTACH;FMTTYPE=image/jpeg:https://deltaplane.co/wp-content/uploads/2025/02/Rassemblement-delta-deltapalne-bretagne-cotentin-1.jpg
END:VEVENT
BEGIN:VEVENT
DTSTART;VALUE=DATE:20250501
DTEND;VALUE=DATE:20250512
DTSTAMP:20260423T084601
CREATED:20250206T202827Z
LAST-MODIFIED:20250206T202848Z
UID:13649-1746057600-1747007999@deltaplane.co
SUMMARY:Rassemblement planeur ultra légers - ADPUL - XC Aspres
DESCRIPTION:Contact Jacques Bott
URL:https://deltaplane.co/agenda/rassemblement-planeur-ultra-legers-adpul-xc-aspres/
LOCATION:Aspres\, France
CATEGORIES:Rencontre
ATTACH;FMTTYPE=image/jpeg:https://deltaplane.co/wp-content/uploads/2025/02/manfred-ruhmer-et-son-swift-a-l-arrivee-de-la-quatrieme-etape-lundi-photo-le-dl-a-b-1659466626.jpg
END:VEVENT
BEGIN:VEVENT
DTSTART;VALUE=DATE:20250517
DTEND;VALUE=DATE:20250519
DTSTAMP:20260423T084601
CREATED:20250222T230010Z
LAST-MODIFIED:20250317T121953Z
UID:13784-1747440000-1747612799@deltaplane.co
SUMMARY:Challenge CND 2025
DESCRIPTION:
URL:https://deltaplane.co/agenda/challenge-cnd-2025/
LOCATION:Luc-en-Diois\, 26167
CATEGORIES:Challenges / Amicales,Fête,Rencontre
ATTACH;FMTTYPE=image/jpeg:https://deltaplane.co/wp-content/uploads/2025/02/logo-passe-montagnes-deltaplane.jpg
END:VEVENT
BEGIN:VEVENT
DTSTART;VALUE=DATE:20250529
DTEND;VALUE=DATE:20250602
DTSTAMP:20260423T084601
CREATED:20250203T191508Z
LAST-MODIFIED:20250206T232007Z
UID:13585-1748476800-1748822399@deltaplane.co
SUMMARY:Report Rassemblement deltistes en Bretagne ou Cotentin
DESCRIPTION:
URL:https://deltaplane.co/agenda/report-rassemblement-deltistes-en-bretagne-ou-en-cotentin/
LOCATION:Saint-Pabu
CATEGORIES:Rencontre
END:VEVENT
BEGIN:VEVENT
DTSTART;VALUE=DATE:20250529
DTEND;VALUE=DATE:20250602
DTSTAMP:20260423T084601
CREATED:20250206T203155Z
LAST-MODIFIED:20250206T203155Z
UID:13685-1748476800-1748822399@deltaplane.co
SUMMARY:Rassemblement planeur ultra légers - ADPUL - Belfort
DESCRIPTION:Contact Michel Paté
URL:https://deltaplane.co/agenda/rassemblement-planeur-ultra-legers-adpul-belfort/
LOCATION:Belfort
CATEGORIES:Rencontre
ATTACH;FMTTYPE=image/jpeg:https://deltaplane.co/wp-content/uploads/2025/02/manfred-ruhmer-et-son-swift-a-l-arrivee-de-la-quatrieme-etape-lundi-photo-le-dl-a-b-1659466626.jpg
END:VEVENT
END:VCALENDAR