BEGIN:VCALENDAR
VERSION:2.0
PRODID:-//Deltaplane.co - ECPv6.15.20//NONSGML v1.0//EN
CALSCALE:GREGORIAN
METHOD:PUBLISH
X-WR-CALNAME:Deltaplane.co
X-ORIGINAL-URL:https://deltaplane.co
X-WR-CALDESC:Évènements pour Deltaplane.co
REFRESH-INTERVAL;VALUE=DURATION:PT1H
X-Robots-Tag:noindex
X-PUBLISHED-TTL:PT1H
BEGIN:VTIMEZONE
TZID:Europe/Paris
BEGIN:DAYLIGHT
TZOFFSETFROM:+0100
TZOFFSETTO:+0200
TZNAME:CEST
DTSTART:20230326T010000
END:DAYLIGHT
BEGIN:STANDARD
TZOFFSETFROM:+0200
TZOFFSETTO:+0100
TZNAME:CET
DTSTART:20231029T010000
END:STANDARD
BEGIN:DAYLIGHT
TZOFFSETFROM:+0100
TZOFFSETTO:+0200
TZNAME:CEST
DTSTART:20240331T010000
END:DAYLIGHT
BEGIN:STANDARD
TZOFFSETFROM:+0200
TZOFFSETTO:+0100
TZNAME:CET
DTSTART:20241027T010000
END:STANDARD
BEGIN:DAYLIGHT
TZOFFSETFROM:+0100
TZOFFSETTO:+0200
TZNAME:CEST
DTSTART:20250330T010000
END:DAYLIGHT
BEGIN:STANDARD
TZOFFSETFROM:+0200
TZOFFSETTO:+0100
TZNAME:CET
DTSTART:20251026T010000
END:STANDARD
END:VTIMEZONE
BEGIN:VEVENT
DTSTART;VALUE=DATE:20240810
DTEND;VALUE=DATE:20240812
DTSTAMP:20260420T014341
CREATED:20240725T092102Z
LAST-MODIFIED:20240725T144251Z
UID:12959-1723248000-1723420799@deltaplane.co
SUMMARY:Journée de découverte avec le club Penn Ar Bed Vol Libre (PBVL) au Menez Hom
DESCRIPTION:Contact : Thierry HERVE \nhttps://federation.ffvl.fr/structure/12982
URL:https://deltaplane.co/agenda/journee-de-decouverte-avec-le-club-penn-ar-bed-vol-libre-pbvl-au-menez-hom/
LOCATION:Menez Hom\, 29150
ATTACH;FMTTYPE=image/jpeg:https://deltaplane.co/wp-content/uploads/2024/05/Unknown.jpeg
END:VEVENT
BEGIN:VEVENT
DTSTART;TZID=Europe/Paris:20240831T090000
DTEND;TZID=Europe/Paris:20240831T130000
DTSTAMP:20260420T014341
CREATED:20240301T131505Z
LAST-MODIFIED:20240301T131505Z
UID:12463-1725094800-1725109200@deltaplane.co
SUMMARY:Journée de découverte avec le Delta Club de Haut Jura
DESCRIPTION:
URL:https://deltaplane.co/agenda/journee-de-decouverte-avec-le-delta-club-de-haut-jura-5/
LOCATION:Saint Claude\, Saint Claude\, 39200\, France
CATEGORIES:Découverte
ATTACH;FMTTYPE=image/jpeg:https://deltaplane.co/wp-content/uploads/2024/01/dchj.jpg
END:VEVENT
END:VCALENDAR