BEGIN:VCALENDAR
VERSION:2.0
PRODID:-//Deltaplane.co - ECPv6.15.20//NONSGML v1.0//EN
CALSCALE:GREGORIAN
METHOD:PUBLISH
X-WR-CALNAME:Deltaplane.co
X-ORIGINAL-URL:https://deltaplane.co
X-WR-CALDESC:Évènements pour Deltaplane.co
REFRESH-INTERVAL;VALUE=DURATION:PT1H
X-Robots-Tag:noindex
X-PUBLISHED-TTL:PT1H
BEGIN:VTIMEZONE
TZID:Europe/Paris
BEGIN:DAYLIGHT
TZOFFSETFROM:+0100
TZOFFSETTO:+0200
TZNAME:CEST
DTSTART:20230326T010000
END:DAYLIGHT
BEGIN:STANDARD
TZOFFSETFROM:+0200
TZOFFSETTO:+0100
TZNAME:CET
DTSTART:20231029T010000
END:STANDARD
BEGIN:DAYLIGHT
TZOFFSETFROM:+0100
TZOFFSETTO:+0200
TZNAME:CEST
DTSTART:20240331T010000
END:DAYLIGHT
BEGIN:STANDARD
TZOFFSETFROM:+0200
TZOFFSETTO:+0100
TZNAME:CET
DTSTART:20241027T010000
END:STANDARD
BEGIN:DAYLIGHT
TZOFFSETFROM:+0100
TZOFFSETTO:+0200
TZNAME:CEST
DTSTART:20250330T010000
END:DAYLIGHT
BEGIN:STANDARD
TZOFFSETFROM:+0200
TZOFFSETTO:+0100
TZNAME:CET
DTSTART:20251026T010000
END:STANDARD
END:VTIMEZONE
BEGIN:VEVENT
DTSTART;TZID=Europe/Paris:20240915T090000
DTEND;TZID=Europe/Paris:20240915T130000
DTSTAMP:20260420T002211
CREATED:20240301T131557Z
LAST-MODIFIED:20240301T131557Z
UID:12465-1726390800-1726405200@deltaplane.co
SUMMARY:Journée de découverte avec le Delta Club de Haut Jura
DESCRIPTION:
URL:https://deltaplane.co/agenda/journee-de-decouverte-avec-le-delta-club-de-haut-jura-6/
LOCATION:Saint Claude\, Saint Claude\, 39200\, France
CATEGORIES:Découverte
ATTACH;FMTTYPE=image/jpeg:https://deltaplane.co/wp-content/uploads/2024/01/dchj.jpg
END:VEVENT
BEGIN:VEVENT
DTSTART;TZID=Europe/Paris:20240928T090000
DTEND;TZID=Europe/Paris:20240928T130000
DTSTAMP:20260420T002211
CREATED:20240301T131721Z
LAST-MODIFIED:20240301T131721Z
UID:12467-1727514000-1727528400@deltaplane.co
SUMMARY:Journée de découverte avec le Delta Club de Haut Jura
DESCRIPTION:
URL:https://deltaplane.co/agenda/journee-de-decouverte-avec-le-delta-club-de-haut-jura-7/
LOCATION:Saint Claude\, Saint Claude\, 39200\, France
CATEGORIES:Découverte
ATTACH;FMTTYPE=image/jpeg:https://deltaplane.co/wp-content/uploads/2024/01/dchj.jpg
END:VEVENT
END:VCALENDAR