BEGIN:VCALENDAR
VERSION:2.0
PRODID:-//Deltaplane.co - ECPv6.15.20//NONSGML v1.0//EN
CALSCALE:GREGORIAN
METHOD:PUBLISH
X-WR-CALNAME:Deltaplane.co
X-ORIGINAL-URL:https://deltaplane.co
X-WR-CALDESC:Évènements pour Deltaplane.co
REFRESH-INTERVAL;VALUE=DURATION:PT1H
X-Robots-Tag:noindex
X-PUBLISHED-TTL:PT1H
BEGIN:VTIMEZONE
TZID:Europe/Paris
BEGIN:DAYLIGHT
TZOFFSETFROM:+0100
TZOFFSETTO:+0200
TZNAME:CEST
DTSTART:20240331T010000
END:DAYLIGHT
BEGIN:STANDARD
TZOFFSETFROM:+0200
TZOFFSETTO:+0100
TZNAME:CET
DTSTART:20241027T010000
END:STANDARD
BEGIN:DAYLIGHT
TZOFFSETFROM:+0100
TZOFFSETTO:+0200
TZNAME:CEST
DTSTART:20250330T010000
END:DAYLIGHT
BEGIN:STANDARD
TZOFFSETFROM:+0200
TZOFFSETTO:+0100
TZNAME:CET
DTSTART:20251026T010000
END:STANDARD
BEGIN:DAYLIGHT
TZOFFSETFROM:+0100
TZOFFSETTO:+0200
TZNAME:CEST
DTSTART:20260329T010000
END:DAYLIGHT
BEGIN:STANDARD
TZOFFSETFROM:+0200
TZOFFSETTO:+0100
TZNAME:CET
DTSTART:20261025T010000
END:STANDARD
END:VTIMEZONE
BEGIN:VEVENT
DTSTART;VALUE=DATE:20250301
DTEND;VALUE=DATE:20250302
DTSTAMP:20260419T155903
CREATED:20250210T231700Z
LAST-MODIFIED:20250210T231700Z
UID:13747-1740787200-1740873599@deltaplane.co
SUMMARY:Journées découverte avec les Goélands d'Armor
DESCRIPTION:RDV le 1er ou le 2 mars en fonction de la MTO \nReport possible au 15 ou 16 mars \nLieu : Plérin ou Pléneuf
URL:https://deltaplane.co/agenda/journees-decouverte-avec-les-goelands-darmor/
LOCATION:Plérin ou Pléneuf\, Bretagne
CATEGORIES:Découverte
ATTACH;FMTTYPE=image/png:https://deltaplane.co/wp-content/uploads/2025/02/logo-Goeland-armor-delta.png
END:VEVENT
BEGIN:VEVENT
DTSTART;VALUE=DATE:20250315
DTEND;VALUE=DATE:20250317
DTSTAMP:20260419T155903
CREATED:20250203T172321Z
LAST-MODIFIED:20250203T172414Z
UID:13538-1741996800-1742169599@deltaplane.co
SUMMARY:Journées de découverte avec le Cotentin Vol Libre
DESCRIPTION:
URL:https://deltaplane.co/agenda/journees-de-decouverte-avec-le-cotentin-vol-libre/
LOCATION:Dielette\, 50340
CATEGORIES:Découverte
ATTACH;FMTTYPE=image/jpeg:https://deltaplane.co/wp-content/uploads/2025/02/deltaplane-bord-de-mer-vol-livre-bretagne-normadie.jpg
END:VEVENT
BEGIN:VEVENT
DTSTART;VALUE=DATE:20250322
DTEND;VALUE=DATE:20250323
DTSTAMP:20260419T155903
CREATED:20250203T175334Z
LAST-MODIFIED:20250203T184643Z
UID:13549-1742601600-1742687999@deltaplane.co
SUMMARY:Journée de découverte pour futurEs PilotEs ! Avec l'école Thermique Bleu
DESCRIPTION:
URL:https://deltaplane.co/agenda/journees-de-decouverte-pour-futures-pilotes-avec-lecole-thermique-bleu/
LOCATION:Courcouronnes\, 91080\, France
CATEGORIES:Découverte
ATTACH;FMTTYPE=image/avif:https://deltaplane.co/wp-content/uploads/2025/02/thermique-bleu-ecole-delta.png.avif
END:VEVENT
BEGIN:VEVENT
DTSTART;VALUE=DATE:20250323
DTEND;VALUE=DATE:20250324
DTSTAMP:20260419T155903
CREATED:20250203T184534Z
LAST-MODIFIED:20250203T184534Z
UID:13557-1742688000-1742774399@deltaplane.co
SUMMARY:Journée de découverte pour futurEs PilotEs ! Avec l'école Thermique Bleu
DESCRIPTION:
URL:https://deltaplane.co/agenda/journee-de-decouverte-pour-futures-pilotes-avec-lecole-thermique-bleu/
LOCATION:Courcouronnes\, 91080\, France
CATEGORIES:Découverte
ATTACH;FMTTYPE=image/avif:https://deltaplane.co/wp-content/uploads/2025/02/thermique-bleu-ecole-delta.png.avif
END:VEVENT
BEGIN:VEVENT
DTSTART;VALUE=DATE:20250329
DTEND;VALUE=DATE:20250331
DTSTAMP:20260419T155903
CREATED:20250209T210338Z
LAST-MODIFIED:20250209T210338Z
UID:13741-1743206400-1743379199@deltaplane.co
SUMMARY:Journée de découverte avec le club Deltazur
DESCRIPTION:Le 29 ou 30 mars 2025 aura lieu la 3ème édition de La Roque en l’Air\, une journée découverte de toutes les activités de la FFVL (pour tous les âges).
URL:https://deltaplane.co/agenda/journee-de-decouverte-avec-le-club-deltazur/
LOCATION:La Roque Esclapon\, La Roque Esclapon\, 83\, France
CATEGORIES:Découverte,Fête
ATTACH;FMTTYPE=image/jpeg:https://deltaplane.co/wp-content/uploads/2025/02/Deltaplane_Roque_en_lAir_mars_2025-1.jpg
END:VEVENT
END:VCALENDAR