BEGIN:VCALENDAR
VERSION:2.0
PRODID:-//Deltaplane.co - ECPv6.15.20//NONSGML v1.0//EN
CALSCALE:GREGORIAN
METHOD:PUBLISH
X-WR-CALNAME:Deltaplane.co
X-ORIGINAL-URL:https://deltaplane.co
X-WR-CALDESC:Évènements pour Deltaplane.co
REFRESH-INTERVAL;VALUE=DURATION:PT1H
X-Robots-Tag:noindex
X-PUBLISHED-TTL:PT1H
BEGIN:VTIMEZONE
TZID:Europe/Paris
BEGIN:DAYLIGHT
TZOFFSETFROM:+0100
TZOFFSETTO:+0200
TZNAME:CEST
DTSTART:20240331T010000
END:DAYLIGHT
BEGIN:STANDARD
TZOFFSETFROM:+0200
TZOFFSETTO:+0100
TZNAME:CET
DTSTART:20241027T010000
END:STANDARD
BEGIN:DAYLIGHT
TZOFFSETFROM:+0100
TZOFFSETTO:+0200
TZNAME:CEST
DTSTART:20250330T010000
END:DAYLIGHT
BEGIN:STANDARD
TZOFFSETFROM:+0200
TZOFFSETTO:+0100
TZNAME:CET
DTSTART:20251026T010000
END:STANDARD
BEGIN:DAYLIGHT
TZOFFSETFROM:+0100
TZOFFSETTO:+0200
TZNAME:CEST
DTSTART:20260329T010000
END:DAYLIGHT
BEGIN:STANDARD
TZOFFSETFROM:+0200
TZOFFSETTO:+0100
TZNAME:CET
DTSTART:20261025T010000
END:STANDARD
END:VTIMEZONE
BEGIN:VEVENT
DTSTART;VALUE=DATE:20250419
DTEND;VALUE=DATE:20250420
DTSTAMP:20260419T142849
CREATED:20250206T233439Z
LAST-MODIFIED:20250206T233439Z
UID:13731-1745020800-1745107199@deltaplane.co
SUMMARY:Journée de découverte avec le Delta club du Haut Jura
DESCRIPTION:Tous les 3ème samedi de chaque mois ! \nSauf exception (météo) \n 
URL:https://deltaplane.co/agenda/journee-de-decouverte-avec-le-delta-club-du-haut-jura/
LOCATION:Saint Claude\, Saint Claude\, 39200\, France
CATEGORIES:Découverte
ATTACH;FMTTYPE=image/jpeg:https://deltaplane.co/wp-content/uploads/2025/02/dchj.jpg
END:VEVENT
BEGIN:VEVENT
DTSTART;VALUE=DATE:20250419
DTEND;VALUE=DATE:20250421
DTSTAMP:20260419T142849
CREATED:20250203T172553Z
LAST-MODIFIED:20250203T172553Z
UID:13541-1745020800-1745193599@deltaplane.co
SUMMARY:Journées de découverte avec le Cotentin Vol Libre
DESCRIPTION:
URL:https://deltaplane.co/agenda/journees-de-decouverte-avec-le-cotentin-vol-libre-2/
LOCATION:Dielette\, 50340
CATEGORIES:Découverte
ATTACH;FMTTYPE=image/jpeg:https://deltaplane.co/wp-content/uploads/2025/02/deltaplane-bord-de-mer-vol-livre-bretagne-normadie.jpg
END:VEVENT
BEGIN:VEVENT
DTSTART;VALUE=DATE:20250427
DTEND;VALUE=DATE:20250428
DTSTAMP:20260419T142849
CREATED:20250203T184614Z
LAST-MODIFIED:20250206T222810Z
UID:13559-1745712000-1745798399@deltaplane.co
SUMMARY:Journée de découverte pour futurEs PilotEs ! Avec l'école Thermique Bleu
DESCRIPTION:
URL:https://deltaplane.co/agenda/journee-de-decouverte-pour-futures-pilotes-avec-lecole-thermique-bleu-2/
LOCATION:Courcouronnes\, 91080\, France
CATEGORIES:Découverte
ATTACH;FMTTYPE=image/avif:https://deltaplane.co/wp-content/uploads/2025/02/thermique-bleu-ecole-delta.png.avif
END:VEVENT
END:VCALENDAR