BEGIN:VCALENDAR
VERSION:2.0
PRODID:-//Deltaplane.co - ECPv6.15.20//NONSGML v1.0//EN
CALSCALE:GREGORIAN
METHOD:PUBLISH
X-ORIGINAL-URL:https://deltaplane.co
X-WR-CALDESC:Évènements pour Deltaplane.co
REFRESH-INTERVAL;VALUE=DURATION:PT1H
X-Robots-Tag:noindex
X-PUBLISHED-TTL:PT1H
BEGIN:VTIMEZONE
TZID:Europe/Paris
BEGIN:DAYLIGHT
TZOFFSETFROM:+0100
TZOFFSETTO:+0200
TZNAME:CEST
DTSTART:20230326T010000
END:DAYLIGHT
BEGIN:STANDARD
TZOFFSETFROM:+0200
TZOFFSETTO:+0100
TZNAME:CET
DTSTART:20231029T010000
END:STANDARD
BEGIN:DAYLIGHT
TZOFFSETFROM:+0100
TZOFFSETTO:+0200
TZNAME:CEST
DTSTART:20240331T010000
END:DAYLIGHT
BEGIN:STANDARD
TZOFFSETFROM:+0200
TZOFFSETTO:+0100
TZNAME:CET
DTSTART:20241027T010000
END:STANDARD
BEGIN:DAYLIGHT
TZOFFSETFROM:+0100
TZOFFSETTO:+0200
TZNAME:CEST
DTSTART:20250330T010000
END:DAYLIGHT
BEGIN:STANDARD
TZOFFSETFROM:+0200
TZOFFSETTO:+0100
TZNAME:CET
DTSTART:20251026T010000
END:STANDARD
END:VTIMEZONE
BEGIN:VEVENT
DTSTART;TZID=Europe/Paris:20240803T080000
DTEND;TZID=Europe/Paris:20240810T180000
DTSTAMP:20260424T214751
CREATED:20231209T110804Z
LAST-MODIFIED:20240124T125229Z
UID:12191-1722672000-1723312800@deltaplane.co
SUMMARY:Championnat de France 2024 - Laragne
DESCRIPTION:
URL:https://deltaplane.co/agenda/championnat-de-france-2024-laragne-air-buech/
LOCATION:Laragne\, Chabre\, Laragne\, France
CATEGORIES:Compétition
ATTACH;FMTTYPE=image/jpeg:https://deltaplane.co/wp-content/uploads/2023/12/EABA51C4-93CA-49D9-9117-3CBC90F815A1_1_105_c.jpeg
END:VEVENT
BEGIN:VEVENT
DTSTART;VALUE=DATE:20240818
DTEND;VALUE=DATE:20240824
DTSTAMP:20260424T214751
CREATED:20240124T123127Z
LAST-MODIFIED:20240125T174522Z
UID:12254-1723939200-1724457599@deltaplane.co
SUMMARY:Stage progression - Annecy - Delta Club d'Annecy
DESCRIPTION:
URL:https://deltaplane.co/agenda/stage-progression/
LOCATION:Annecy
CATEGORIES:Stage progression
END:VEVENT
BEGIN:VEVENT
DTSTART;TZID=Europe/Paris:20240824T080000
DTEND;TZID=Europe/Paris:20240825T170000
DTSTAMP:20260424T214751
CREATED:20231209T115351Z
LAST-MODIFIED:20231209T120013Z
UID:12224-1724486400-1724605200@deltaplane.co
SUMMARY:Coupe des clubs de France de deltaplane 2024
DESCRIPTION:
URL:https://deltaplane.co/agenda/coupe-des-clubs-de-france-de-deltaplane-2024/
LOCATION:Laragne\, Chabre\, Laragne\, France
CATEGORIES:Challenges / Amicales
ATTACH;FMTTYPE=image/jpeg:https://deltaplane.co/wp-content/uploads/2023/12/304933628_397398782519500_7992997087288261722_n.jpg
END:VEVENT
END:VCALENDAR