BEGIN:VCALENDAR
VERSION:2.0
PRODID:-//Deltaplane.co - ECPv6.15.20//NONSGML v1.0//EN
CALSCALE:GREGORIAN
METHOD:PUBLISH
X-ORIGINAL-URL:https://deltaplane.co
X-WR-CALDESC:Évènements pour Deltaplane.co
REFRESH-INTERVAL;VALUE=DURATION:PT1H
X-Robots-Tag:noindex
X-PUBLISHED-TTL:PT1H
BEGIN:VTIMEZONE
TZID:Europe/Paris
BEGIN:DAYLIGHT
TZOFFSETFROM:+0100
TZOFFSETTO:+0200
TZNAME:CEST
DTSTART:20250330T010000
END:DAYLIGHT
BEGIN:STANDARD
TZOFFSETFROM:+0200
TZOFFSETTO:+0100
TZNAME:CET
DTSTART:20251026T010000
END:STANDARD
BEGIN:DAYLIGHT
TZOFFSETFROM:+0100
TZOFFSETTO:+0200
TZNAME:CEST
DTSTART:20260329T010000
END:DAYLIGHT
BEGIN:STANDARD
TZOFFSETFROM:+0200
TZOFFSETTO:+0100
TZNAME:CET
DTSTART:20261025T010000
END:STANDARD
BEGIN:DAYLIGHT
TZOFFSETFROM:+0100
TZOFFSETTO:+0200
TZNAME:CEST
DTSTART:20270328T010000
END:DAYLIGHT
BEGIN:STANDARD
TZOFFSETFROM:+0200
TZOFFSETTO:+0100
TZNAME:CET
DTSTART:20271031T010000
END:STANDARD
END:VTIMEZONE
BEGIN:VEVENT
DTSTART;VALUE=DATE:20260508
DTEND;VALUE=DATE:20260514
DTSTAMP:20260422T164620
CREATED:20260221T134318Z
LAST-MODIFIED:20260221T134318Z
UID:14118-1778198400-1778716799@deltaplane.co
SUMMARY:Stage d'initiation avec l'Ecole Delta Millau (Millau)
DESCRIPTION:
URL:https://deltaplane.co/agenda/stage-dinitiation-avec-lecole-delta-millau-millau/
LOCATION:Millau
CATEGORIES:Stage initiation
ATTACH;FMTTYPE=image/jpeg:https://deltaplane.co/wp-content/uploads/2025/02/ecole-delta-millau.jpeg
END:VEVENT
BEGIN:VEVENT
DTSTART;VALUE=DATE:20260518
DTEND;VALUE=DATE:20260524
DTSTAMP:20260422T164620
CREATED:20260122T000451Z
LAST-MODIFIED:20260122T000808Z
UID:14041-1779062400-1779580799@deltaplane.co
SUMMARY:Stage d'initiation avec Vercors Vol Libre
DESCRIPTION:
URL:https://deltaplane.co/agenda/stage-dinitiation-avec-vercors-vol-libre-2/
LOCATION:Saint-Jean-en-Royan\, 26190\, France
CATEGORIES:Stage initiation
ATTACH;FMTTYPE=image/jpeg:https://deltaplane.co/wp-content/uploads/2026/01/Capture-decran-2026-01-22-a-01.06.54.jpg
END:VEVENT
BEGIN:VEVENT
DTSTART;VALUE=DATE:20260520
DTEND;VALUE=DATE:20260528
DTSTAMP:20260422T164620
CREATED:20260305T220547Z
LAST-MODIFIED:20260305T220547Z
UID:14173-1779235200-1779926399@deltaplane.co
SUMMARY:Stage initiation avec Delta aventure (à la carte)
DESCRIPTION:
URL:https://deltaplane.co/agenda/stage-initiation-avec-delta-aventure-a-la-carte/
LOCATION:Saint Hilaire du Touvet\, 38
CATEGORIES:à la carte,Stage initiation
ATTACH;FMTTYPE=image/png:https://deltaplane.co/wp-content/uploads/2025/02/delta-aventure-logo-deltaplane-e1738859882258.png
END:VEVENT
END:VCALENDAR