BEGIN:VCALENDAR
VERSION:2.0
PRODID:-//Deltaplane.co - ECPv6.15.20//NONSGML v1.0//EN
CALSCALE:GREGORIAN
METHOD:PUBLISH
X-ORIGINAL-URL:https://deltaplane.co
X-WR-CALDESC:Évènements pour Deltaplane.co
REFRESH-INTERVAL;VALUE=DURATION:PT1H
X-Robots-Tag:noindex
X-PUBLISHED-TTL:PT1H
BEGIN:VTIMEZONE
TZID:Europe/Paris
BEGIN:DAYLIGHT
TZOFFSETFROM:+0100
TZOFFSETTO:+0200
TZNAME:CEST
DTSTART:20250330T010000
END:DAYLIGHT
BEGIN:STANDARD
TZOFFSETFROM:+0200
TZOFFSETTO:+0100
TZNAME:CET
DTSTART:20251026T010000
END:STANDARD
BEGIN:DAYLIGHT
TZOFFSETFROM:+0100
TZOFFSETTO:+0200
TZNAME:CEST
DTSTART:20260329T010000
END:DAYLIGHT
BEGIN:STANDARD
TZOFFSETFROM:+0200
TZOFFSETTO:+0100
TZNAME:CET
DTSTART:20261025T010000
END:STANDARD
BEGIN:DAYLIGHT
TZOFFSETFROM:+0100
TZOFFSETTO:+0200
TZNAME:CEST
DTSTART:20270328T010000
END:DAYLIGHT
BEGIN:STANDARD
TZOFFSETFROM:+0200
TZOFFSETTO:+0100
TZNAME:CET
DTSTART:20271031T010000
END:STANDARD
END:VTIMEZONE
BEGIN:VEVENT
DTSTART;VALUE=DATE:20260705
DTEND;VALUE=DATE:20260712
DTSTAMP:20260422T191244
CREATED:20251224T203303Z
LAST-MODIFIED:20251224T203303Z
UID:14008-1783209600-1783814399@deltaplane.co
SUMMARY:Stage d'initiation avec le Delta club d'Annecy
DESCRIPTION:
URL:https://deltaplane.co/agenda/stage-dinitiation-avec-le-delta-club-dannecy-2/
LOCATION:Doussard\, 74
CATEGORIES:Stage initiation
ATTACH;FMTTYPE=image/png:https://deltaplane.co/wp-content/uploads/2025/02/logo-DCA-delta-annecy-club-ecole-e1738843163553.png
END:VEVENT
BEGIN:VEVENT
DTSTART;VALUE=DATE:20260706
DTEND;VALUE=DATE:20260713
DTSTAMP:20260422T191244
CREATED:20260310T222831Z
LAST-MODIFIED:20260310T222831Z
UID:14202-1783296000-1783900799@deltaplane.co
SUMMARY:Stage de progression avec l'école DeltAzur
DESCRIPTION:
URL:https://deltaplane.co/agenda/stage-de-progression-avec-lecole-deltazur/
LOCATION:La Roque Esclapon\, La Roque Esclapon\, 83\, France
CATEGORIES:Stage progression
ATTACH;FMTTYPE=image/jpeg:https://deltaplane.co/wp-content/uploads/2025/02/logo-club-deltazur.jpeg
END:VEVENT
BEGIN:VEVENT
DTSTART;VALUE=DATE:20260720
DTEND;VALUE=DATE:20260726
DTSTAMP:20260422T191244
CREATED:20260221T134436Z
LAST-MODIFIED:20260221T134436Z
UID:14120-1784505600-1785023999@deltaplane.co
SUMMARY:Stage d'initiation avec l'Ecole Delta Millau (Millau)
DESCRIPTION:
URL:https://deltaplane.co/agenda/stage-dinitiation-avec-lecole-delta-millau-millau-2/
LOCATION:Millau
CATEGORIES:Stage initiation
ATTACH;FMTTYPE=image/jpeg:https://deltaplane.co/wp-content/uploads/2025/02/ecole-delta-millau.jpeg
END:VEVENT
BEGIN:VEVENT
DTSTART;VALUE=DATE:20260727
DTEND;VALUE=DATE:20260802
DTSTAMP:20260422T191244
CREATED:20260122T001039Z
LAST-MODIFIED:20260122T001039Z
UID:14048-1785110400-1785628799@deltaplane.co
SUMMARY:Stage d'initiation avec Vercors Vol Libre
DESCRIPTION:
URL:https://deltaplane.co/agenda/stage-dinitiation-avec-vercors-vol-libre-3/
LOCATION:Saint-Jean-en-Royan\, 26190\, France
CATEGORIES:Stage initiation
ATTACH;FMTTYPE=image/jpeg:https://deltaplane.co/wp-content/uploads/2026/01/Capture-decran-2026-01-22-a-01.06.54.jpg
END:VEVENT
END:VCALENDAR