BEGIN:VCALENDAR
VERSION:2.0
PRODID:-//Deltaplane.co - ECPv6.15.20//NONSGML v1.0//EN
CALSCALE:GREGORIAN
METHOD:PUBLISH
X-WR-CALNAME:Deltaplane.co
X-ORIGINAL-URL:https://deltaplane.co
X-WR-CALDESC:Évènements pour Deltaplane.co
REFRESH-INTERVAL;VALUE=DURATION:PT1H
X-Robots-Tag:noindex
X-PUBLISHED-TTL:PT1H
BEGIN:VTIMEZONE
TZID:Europe/Paris
BEGIN:DAYLIGHT
TZOFFSETFROM:+0100
TZOFFSETTO:+0200
TZNAME:CEST
DTSTART:20250330T010000
END:DAYLIGHT
BEGIN:STANDARD
TZOFFSETFROM:+0200
TZOFFSETTO:+0100
TZNAME:CET
DTSTART:20251026T010000
END:STANDARD
BEGIN:DAYLIGHT
TZOFFSETFROM:+0100
TZOFFSETTO:+0200
TZNAME:CEST
DTSTART:20260329T010000
END:DAYLIGHT
BEGIN:STANDARD
TZOFFSETFROM:+0200
TZOFFSETTO:+0100
TZNAME:CET
DTSTART:20261025T010000
END:STANDARD
BEGIN:DAYLIGHT
TZOFFSETFROM:+0100
TZOFFSETTO:+0200
TZNAME:CEST
DTSTART:20270328T010000
END:DAYLIGHT
BEGIN:STANDARD
TZOFFSETFROM:+0200
TZOFFSETTO:+0100
TZNAME:CET
DTSTART:20271031T010000
END:STANDARD
END:VTIMEZONE
BEGIN:VEVENT
DTSTART;VALUE=DATE:20260501
DTEND;VALUE=DATE:20260504
DTSTAMP:20260422T171419
CREATED:20260305T214941Z
LAST-MODIFIED:20260305T214941Z
UID:14165-1777593600-1777852799@deltaplane.co
SUMMARY:Stage progression-perf avec Delta Aventure
DESCRIPTION:
URL:https://deltaplane.co/agenda/stage-progression-perf-avec-delta-aventure/
LOCATION:Col de la Forclaz\, 74
CATEGORIES:à la carte,Stage perfectionnement,Stage progression
ATTACH;FMTTYPE=image/png:https://deltaplane.co/wp-content/uploads/2025/02/delta-aventure-logo-deltaplane-e1738859882258.png
END:VEVENT
BEGIN:VEVENT
DTSTART;VALUE=DATE:20260508
DTEND;VALUE=DATE:20260511
DTSTAMP:20260422T171419
CREATED:20260305T215143Z
LAST-MODIFIED:20260305T215143Z
UID:14167-1778198400-1778457599@deltaplane.co
SUMMARY:Stage progression-perf avec Delta Aventure
DESCRIPTION:
URL:https://deltaplane.co/agenda/stage-progression-perf-avec-delta-aventure-2/
LOCATION:Col de la Forclaz\, 74
CATEGORIES:à la carte,Stage perfectionnement,Stage progression
ATTACH;FMTTYPE=image/png:https://deltaplane.co/wp-content/uploads/2025/02/delta-aventure-logo-deltaplane-e1738859882258.png
END:VEVENT
BEGIN:VEVENT
DTSTART;VALUE=DATE:20260509
DTEND;VALUE=DATE:20260517
DTSTAMP:20260422T171419
CREATED:20260221T131038Z
LAST-MODIFIED:20260221T131038Z
UID:14108-1778284800-1778975999@deltaplane.co
SUMMARY:Stage de perfectionnement (Ager\, Catalogne)
DESCRIPTION:
URL:https://deltaplane.co/agenda/stage-de-perfectionnement-ager-catalogne/
LOCATION:Ager\, Spain
CATEGORIES:Stage perfectionnement/cross
ATTACH;FMTTYPE=image/jpeg:https://deltaplane.co/wp-content/uploads/2025/02/Toolaho-ecole-deltaplane-e1738845123432.jpeg
END:VEVENT
BEGIN:VEVENT
DTSTART;VALUE=DATE:20260512
DTEND;VALUE=DATE:20260518
DTSTAMP:20260422T171419
CREATED:20260221T135501Z
LAST-MODIFIED:20260221T141304Z
UID:14129-1778544000-1779062399@deltaplane.co
SUMMARY:Stage de perfectionnement avec l'Ecole Delta Millau (Millau)
DESCRIPTION:
URL:https://deltaplane.co/agenda/stage-de-perfectionnement-avec-lecole-delta-millau-millau/
LOCATION:Millau
CATEGORIES:Stage progression
ATTACH;FMTTYPE=image/jpeg:https://deltaplane.co/wp-content/uploads/2025/02/ecole-delta-millau.jpeg
END:VEVENT
BEGIN:VEVENT
DTSTART;VALUE=DATE:20260514
DTEND;VALUE=DATE:20260518
DTSTAMP:20260422T171419
CREATED:20260305T215258Z
LAST-MODIFIED:20260305T215258Z
UID:14169-1778716800-1779062399@deltaplane.co
SUMMARY:Stage progression-perf avec Delta Aventure
DESCRIPTION:
URL:https://deltaplane.co/agenda/stage-progression-perf-avec-delta-aventure-3/
LOCATION:Col de la Forclaz\, 74
CATEGORIES:à la carte,Stage perfectionnement,Stage progression
ATTACH;FMTTYPE=image/png:https://deltaplane.co/wp-content/uploads/2025/02/delta-aventure-logo-deltaplane-e1738859882258.png
END:VEVENT
BEGIN:VEVENT
DTSTART;VALUE=DATE:20260704
DTEND;VALUE=DATE:20260710
DTSTAMP:20260422T171419
CREATED:20260305T222726Z
LAST-MODIFIED:20260305T222726Z
UID:14179-1783123200-1783641599@deltaplane.co
SUMMARY:Stage progression-perf avec Delta Aventure
DESCRIPTION:
URL:https://deltaplane.co/agenda/stage-progression-perf-avec-delta-aventure-4/
LOCATION:Col de la Forclaz\, 74
CATEGORIES:à la carte,Stage perfectionnement,Stage progression
ATTACH;FMTTYPE=image/png:https://deltaplane.co/wp-content/uploads/2025/02/delta-aventure-logo-deltaplane-e1738859882258.png
END:VEVENT
BEGIN:VEVENT
DTSTART;VALUE=DATE:20260727
DTEND;VALUE=DATE:20260802
DTSTAMP:20260422T171419
CREATED:20260221T135605Z
LAST-MODIFIED:20260221T141357Z
UID:14131-1785110400-1785628799@deltaplane.co
SUMMARY:Stage de perfectionnement avec l'Ecole Delta Millau (Millau)
DESCRIPTION:
URL:https://deltaplane.co/agenda/stage-de-perfectionnement-avec-lecole-delta-millau-millau-2/
LOCATION:Millau
CATEGORIES:Stage progression
ATTACH;FMTTYPE=image/jpeg:https://deltaplane.co/wp-content/uploads/2025/02/ecole-delta-millau.jpeg
END:VEVENT
BEGIN:VEVENT
DTSTART;VALUE=DATE:20260817
DTEND;VALUE=DATE:20260823
DTSTAMP:20260422T171419
CREATED:20260221T135742Z
LAST-MODIFIED:20260221T140305Z
UID:14133-1786924800-1787443199@deltaplane.co
SUMMARY:Stage de perfectionnement avec l'Ecole Delta Millau (Millau)
DESCRIPTION:
URL:https://deltaplane.co/agenda/stage-de-perfectionnement-avec-lecole-delta-millau-millau-3/
LOCATION:Millau
CATEGORIES:Stage progression
ATTACH;FMTTYPE=image/jpeg:https://deltaplane.co/wp-content/uploads/2025/02/ecole-delta-millau.jpeg
END:VEVENT
BEGIN:VEVENT
DTSTART;VALUE=DATE:20260825
DTEND;VALUE=DATE:20260831
DTSTAMP:20260422T171419
CREATED:20260305T222901Z
LAST-MODIFIED:20260305T222901Z
UID:14181-1787616000-1788134399@deltaplane.co
SUMMARY:Stage progression-perf avec Delta Aventure
DESCRIPTION:
URL:https://deltaplane.co/agenda/stage-progression-perf-avec-delta-aventure-5/
LOCATION:Col de la Forclaz\, 74
CATEGORIES:à la carte,Stage perfectionnement,Stage progression
ATTACH;FMTTYPE=image/png:https://deltaplane.co/wp-content/uploads/2025/02/delta-aventure-logo-deltaplane-e1738859882258.png
END:VEVENT
BEGIN:VEVENT
DTSTART;VALUE=DATE:20260905
DTEND;VALUE=DATE:20260913
DTSTAMP:20260422T171419
CREATED:20260221T142213Z
LAST-MODIFIED:20260221T142213Z
UID:14135-1788566400-1789257599@deltaplane.co
SUMMARY:Stage de perfectionnement et stage cross avec l'Ecole Delta Millau (Ager\, Catalogne)
DESCRIPTION:
URL:https://deltaplane.co/agenda/stage-de-perfectionnement-et-stage-cross-avec-lecole-delta-millau-ager-catalogne/
LOCATION:Ager\, Spain
CATEGORIES:Stage perfectionnement/cross
ATTACH;FMTTYPE=image/jpeg:https://deltaplane.co/wp-content/uploads/2025/02/ecole-delta-millau.jpeg
END:VEVENT
BEGIN:VEVENT
DTSTART;VALUE=DATE:20260913
DTEND;VALUE=DATE:20260921
DTSTAMP:20260422T171419
CREATED:20260221T131804Z
LAST-MODIFIED:20260221T132138Z
UID:14113-1789257600-1789948799@deltaplane.co
SUMMARY:Stage de perfectionnement (Castelluccio di Norcia\, Italie)
DESCRIPTION:
URL:https://deltaplane.co/agenda/stage-de-perfectionnement-castelluccio-di-norcia-italie/
LOCATION:Castelluccio di Norcia\, Italy
CATEGORIES:Stage perfectionnement/cross
ATTACH;FMTTYPE=image/jpeg:https://deltaplane.co/wp-content/uploads/2025/02/Toolaho-ecole-deltaplane-e1738845123432.jpeg
END:VEVENT
BEGIN:VEVENT
DTSTART;VALUE=DATE:20261017
DTEND;VALUE=DATE:20261025
DTSTAMP:20260422T171419
CREATED:20260221T142809Z
LAST-MODIFIED:20260221T143348Z
UID:14138-1792195200-1792886399@deltaplane.co
SUMMARY:Stage de perfectionnement avec l'Ecole Delta Millau (Ager\, Catalogne)
DESCRIPTION:
URL:https://deltaplane.co/agenda/stage-de-perfectionnement-avec-lecole-delta-millau-ager-catalogne/
LOCATION:Ager\, Spain
CATEGORIES:Stage perfectionnement/cross,Stage progression
ATTACH;FMTTYPE=image/jpeg:https://deltaplane.co/wp-content/uploads/2025/02/ecole-delta-millau.jpeg
END:VEVENT
BEGIN:VEVENT
DTSTART;VALUE=DATE:20261017
DTEND;VALUE=DATE:20261025
DTSTAMP:20260422T171419
CREATED:20260305T223356Z
LAST-MODIFIED:20260305T223356Z
UID:14183-1792195200-1792886399@deltaplane.co
SUMMARY:Stage perfectionnement avec Delta Aventure
DESCRIPTION:
URL:https://deltaplane.co/agenda/stage-perfectionnement-avec-delta-aventure/
LOCATION:Ager\, Spain
CATEGORIES:A l'étranger,Stage perfectionnement
ATTACH;FMTTYPE=image/png:https://deltaplane.co/wp-content/uploads/2025/02/delta-aventure-logo-deltaplane-e1738859882258.png
END:VEVENT
END:VCALENDAR