BEGIN:VCALENDAR
VERSION:2.0
PRODID:-//Deltaplane.co - ECPv6.15.20//NONSGML v1.0//EN
CALSCALE:GREGORIAN
METHOD:PUBLISH
X-WR-CALNAME:Deltaplane.co
X-ORIGINAL-URL:https://deltaplane.co
X-WR-CALDESC:Évènements pour Deltaplane.co
REFRESH-INTERVAL;VALUE=DURATION:PT1H
X-Robots-Tag:noindex
X-PUBLISHED-TTL:PT1H
BEGIN:VTIMEZONE
TZID:Europe/Paris
BEGIN:DAYLIGHT
TZOFFSETFROM:+0100
TZOFFSETTO:+0200
TZNAME:CEST
DTSTART:20230326T010000
END:DAYLIGHT
BEGIN:STANDARD
TZOFFSETFROM:+0200
TZOFFSETTO:+0100
TZNAME:CET
DTSTART:20231029T010000
END:STANDARD
BEGIN:DAYLIGHT
TZOFFSETFROM:+0100
TZOFFSETTO:+0200
TZNAME:CEST
DTSTART:20240331T010000
END:DAYLIGHT
BEGIN:STANDARD
TZOFFSETFROM:+0200
TZOFFSETTO:+0100
TZNAME:CET
DTSTART:20241027T010000
END:STANDARD
BEGIN:DAYLIGHT
TZOFFSETFROM:+0100
TZOFFSETTO:+0200
TZNAME:CEST
DTSTART:20250330T010000
END:DAYLIGHT
BEGIN:STANDARD
TZOFFSETFROM:+0200
TZOFFSETTO:+0100
TZNAME:CET
DTSTART:20251026T010000
END:STANDARD
END:VTIMEZONE
BEGIN:VEVENT
DTSTART;VALUE=DATE:20240714
DTEND;VALUE=DATE:20240721
DTSTAMP:20260426T035919
CREATED:20240126T162004Z
LAST-MODIFIED:20240126T162004Z
UID:12341-1720915200-1721519999@deltaplane.co
SUMMARY:Stage initiation - Argentat - Corrèze - Ecole Toolaho
DESCRIPTION:
URL:https://deltaplane.co/agenda/stage-initiation-argentat-correze-ecole-toolaho-2/
LOCATION:Argentat\, 19
CATEGORIES:Stage initiation
END:VEVENT
BEGIN:VEVENT
DTSTART;VALUE=DATE:20240721
DTEND;VALUE=DATE:20240728
DTSTAMP:20260426T035919
CREATED:20240126T162057Z
LAST-MODIFIED:20240126T162057Z
UID:12344-1721520000-1722124799@deltaplane.co
SUMMARY:Grands vols - Corrèze - Ecole Toolaho
DESCRIPTION:
URL:https://deltaplane.co/agenda/grands-vols-correze-ecole-toolaho/
LOCATION:Argentat\, 19
CATEGORIES:Stage progression
END:VEVENT
END:VCALENDAR